BEGIN:VCALENDAR
VERSION:2.0
PRODID:spatie/icalendar-generator
DESCRIPTION:Events from Harrogate Mind
X-WR-CALDESC:Events from Harrogate Mind
REFRESH-INTERVAL;VALUE=DURATION:PT1440M
X-PUBLISHED-TTL:PT1440M
BEGIN:VTIMEZONE
TZID:Europe/London
BEGIN:DAYLIGHT
DTSTART:20240331T010000Z
TZOFFSETFROM:+0000
TZOFFSETTO:+0100
END:DAYLIGHT
BEGIN:STANDARD
DTSTART:20241027T020000Z
TZOFFSETFROM:+0100
TZOFFSETTO:+0000
END:STANDARD
END:VTIMEZONE
BEGIN:VTIMEZONE
TZID:UTC
BEGIN:STANDARD
DTSTART:20250724T071626Z
TZOFFSETFROM:+0000
TZOFFSETTO:+0000
END:STANDARD
END:VTIMEZONE
BEGIN:VEVENT
UID:538-173
DTSTAMP:20260420T071626Z
SUMMARY:Sound Bath with Janie
LOCATION:Acorn Centre 101A Station Parade  Harrogate  HG1 1HB
ORGANIZER;CN=Leah Prysce:MAILTO:leah@mindinharrogate.org.uk
DTSTART;TZID=Europe/London:20240816T140000
DTEND;TZID=Europe/London:20240816T150000
X-ALT-DESC;FMTTYPE=TEXT/HTML:
CATEGORIES:General
URL;VALUE=URI:https://mindinharrogate.org.uk/mc-events/sound-bath-with-jani
 e/
METHOD:PUBLISH
END:VEVENT
END:VCALENDAR